BEGIN:VCALENDAR
VERSION:2.0
PRODID:-//Charlotte Folk Society - ECPv6.15.20//NONSGML v1.0//EN
CALSCALE:GREGORIAN
METHOD:PUBLISH
X-ORIGINAL-URL:https://folksociety.org
X-WR-CALDESC:Events for Charlotte Folk Society
REFRESH-INTERVAL;VALUE=DURATION:PT1H
X-Robots-Tag:noindex
X-PUBLISHED-TTL:PT1H
BEGIN:VTIMEZONE
TZID:America/New_York
BEGIN:DAYLIGHT
TZOFFSETFROM:-0500
TZOFFSETTO:-0400
TZNAME:EDT
DTSTART:20240310T070000
END:DAYLIGHT
BEGIN:STANDARD
TZOFFSETFROM:-0400
TZOFFSETTO:-0500
TZNAME:EST
DTSTART:20241103T060000
END:STANDARD
BEGIN:DAYLIGHT
TZOFFSETFROM:-0500
TZOFFSETTO:-0400
TZNAME:EDT
DTSTART:20250309T070000
END:DAYLIGHT
BEGIN:STANDARD
TZOFFSETFROM:-0400
TZOFFSETTO:-0500
TZNAME:EST
DTSTART:20251102T060000
END:STANDARD
BEGIN:DAYLIGHT
TZOFFSETFROM:-0500
TZOFFSETTO:-0400
TZNAME:EDT
DTSTART:20260308T070000
END:DAYLIGHT
BEGIN:STANDARD
TZOFFSETFROM:-0400
TZOFFSETTO:-0500
TZNAME:EST
DTSTART:20261101T060000
END:STANDARD
BEGIN:DAYLIGHT
TZOFFSETFROM:-0500
TZOFFSETTO:-0400
TZNAME:EDT
DTSTART:20270314T070000
END:DAYLIGHT
BEGIN:STANDARD
TZOFFSETFROM:-0400
TZOFFSETTO:-0500
TZNAME:EST
DTSTART:20271107T060000
END:STANDARD
END:VTIMEZONE
BEGIN:VEVENT
DTSTART;TZID=America/New_York:20260322T170000
DTEND;TZID=America/New_York:20260322T190000
DTSTAMP:20260422T051229
CREATED:20251229T191543Z
LAST-MODIFIED:20260123T025318Z
UID:10006918-1774198800-1774206000@folksociety.org
SUMMARY:BLUEGRASS JAM: Petty Thieves Monthly (4th Sunday)
DESCRIPTION:Petty Thieves Monthly Bluegrass Jam:\n4th Sunday of the Month at Petty Thieves\nBrewing Co. 413 Dalton Ave. For more\ninformation contact Greg Clarke at\ngregmclarke@gmail.com.
URL:https://folksociety.org/event/bluegrass-jam-petty-thieves-monthly-4th-sunday/2026-03-22/
LOCATION:Petty Thieves Brewing Company\, 413 Dalton Ave Suite B\, Charlotte\, NC\, 28206
CATEGORIES:Bluegrass Jam,Jams
ATTACH;FMTTYPE=image/png:https://folksociety.org/wp-content/uploads/2024/03/453431631_877789751043179_5984005588145270360_n.png
ORGANIZER;CN="Charlotte Folk Society":MAILTO:CharlotteFolkSociety@folksociety.org
END:VEVENT
BEGIN:VEVENT
DTSTART;TZID=America/New_York:20260222T170000
DTEND;TZID=America/New_York:20260222T190000
DTSTAMP:20260422T051229
CREATED:20251229T191543Z
LAST-MODIFIED:20260123T025318Z
UID:10006917-1771779600-1771786800@folksociety.org
SUMMARY:BLUEGRASS JAM: Petty Thieves Monthly (4th Sunday)
DESCRIPTION:Petty Thieves Monthly Bluegrass Jam:\n4th Sunday of the Month at Petty Thieves\nBrewing Co. 413 Dalton Ave. For more\ninformation contact Greg Clarke at\ngregmclarke@gmail.com.
URL:https://folksociety.org/event/bluegrass-jam-petty-thieves-monthly-4th-sunday/2026-02-22/
LOCATION:Petty Thieves Brewing Company\, 413 Dalton Ave Suite B\, Charlotte\, NC\, 28206
CATEGORIES:Bluegrass Jam,Jams
ATTACH;FMTTYPE=image/png:https://folksociety.org/wp-content/uploads/2024/03/453431631_877789751043179_5984005588145270360_n.png
ORGANIZER;CN="Charlotte Folk Society":MAILTO:CharlotteFolkSociety@folksociety.org
END:VEVENT
BEGIN:VEVENT
DTSTART;TZID=America/New_York:20260125T170000
DTEND;TZID=America/New_York:20260125T190000
DTSTAMP:20260422T051229
CREATED:20251229T191543Z
LAST-MODIFIED:20260123T025318Z
UID:10006916-1769360400-1769367600@folksociety.org
SUMMARY:BLUEGRASS JAM: Petty Thieves Monthly (4th Sunday)
DESCRIPTION:Petty Thieves Monthly Bluegrass Jam:\n4th Sunday of the Month at Petty Thieves\nBrewing Co. 413 Dalton Ave. For more\ninformation contact Greg Clarke at\ngregmclarke@gmail.com.
URL:https://folksociety.org/event/bluegrass-jam-petty-thieves-monthly-4th-sunday/2026-01-25/
LOCATION:Petty Thieves Brewing Company\, 413 Dalton Ave Suite B\, Charlotte\, NC\, 28206
CATEGORIES:Bluegrass Jam,Jams
ATTACH;FMTTYPE=image/png:https://folksociety.org/wp-content/uploads/2024/03/453431631_877789751043179_5984005588145270360_n.png
ORGANIZER;CN="Charlotte Folk Society":MAILTO:CharlotteFolkSociety@folksociety.org
END:VEVENT
BEGIN:VEVENT
DTSTART;TZID=America/New_York:20260111T140000
DTEND;TZID=America/New_York:20260111T170000
DTSTAMP:20260422T051229
CREATED:20251130T164306Z
LAST-MODIFIED:20251130T170015Z
UID:10006114-1768140000-1768150800@folksociety.org
SUMMARY:CHARLOTTE FOLK SOCIETY JAM-A-THON
DESCRIPTION:Sunday\, January 11\, 2-5 pm \nPETTY THIEVES BREWING – 413 Dalton Avenue\, Suite B Charlotte\, NC 28206 \nJoin the Charlotte Folk Society on January 11\, 2026 for a Jam-A-Thon at Petty Thieves Brewing from 3-6pm. Charlotte Folk Society is once again hosting its popular Jam-a-thon at Petty Thieves Brewing. \nFollowing the success of January’s jam-a-thon\, which drew strong crowds across all three genres\, this fall edition promises an equally energetic atmosphere. Whether you’re a seasoned musician or just “jam-curious\,” all skill levels are welcome to join in. Music lovers can enjoy three traditional acoustic styles—Bluegrass\, Old Time\, and Celtic—all in one lively location.
URL:https://folksociety.org/event/charlotte-folk-society-jam-a-thon-2/
LOCATION:Petty Thieves Brewing Company\, 413 Dalton Ave Suite B\, Charlotte\, NC\, 28206
CATEGORIES:Bluegrass Jam,Celtic Sessions,Jams,Old-Time jams,Song Circle
ATTACH;FMTTYPE=image/png:https://folksociety.org/wp-content/uploads/2024/03/453431631_877789751043179_5984005588145270360_n.png
ORGANIZER;CN="Charlotte Folk Society":MAILTO:CharlotteFolkSociety@folksociety.org
END:VEVENT
BEGIN:VEVENT
DTSTART;TZID=America/New_York:20251012T150000
DTEND;TZID=America/New_York:20251012T180000
DTSTAMP:20260422T051229
CREATED:20241211T020126Z
LAST-MODIFIED:20250829T132528Z
UID:10005290-1760281200-1760292000@folksociety.org
SUMMARY:CHARLOTTE FOLK SOCIETY JAM-A-THON
DESCRIPTION:Sunday\, October 12 – 3-6 pm \nPETTY THIEVES BREWING – 413 Dalton Avenue\, Suite B Charlotte\, NC 28206 \nJoin the Charlotte Folk Society on October 12\, 2025 for a Jam-A-Thon at Petty Thieves Brewing from 3-6pm. Charlotte Folk Society is once again hosting its popular Jam-a-thon at Petty Thieves Brewing. \nFollowing the success of January’s jam-a-thon\, which drew strong crowds across all three genres\, this fall edition promises an equally energetic atmosphere. Whether you’re a seasoned musician or just “jam-curious\,” all skill levels are welcome to join in. Music lovers can enjoy three traditional acoustic styles—Bluegrass\, Old Time\, and Celtic—all in one lively location.
URL:https://folksociety.org/event/charlotte-folk-society-jam-a-thon/
LOCATION:Petty Thieves Brewing Company\, 413 Dalton Ave Suite B\, Charlotte\, NC\, 28206
CATEGORIES:Bluegrass Jam,Celtic Sessions,Jams,Old-Time jams,Song Circle
ATTACH;FMTTYPE=image/png:https://folksociety.org/wp-content/uploads/2024/12/Jam-a-Thon-Petty-Thieves.png
ORGANIZER;CN="Charlotte Folk Society":MAILTO:CharlotteFolkSociety@folksociety.org
END:VEVENT
END:VCALENDAR